BEGIN:VCALENDAR
VERSION:2.0
PRODID:-//wp-events-plugin.com//7.2.3.1//EN
BEGIN:VEVENT
UID:24@jardinsatsenti.com
DTSTART;TZID=America/Toronto:20261018T090000
DTEND;TZID=America/Toronto:20261018T160000
DTSTAMP:20260211T184623Z
URL:https://jardinsatsenti.com/events/cours-soigner-les-troubles-digestifs
 -par-les-plantes/
SUMMARY:Cours - Soigner les Troubles Digestifs par les Plantes
DESCRIPTION:Ce cours s'articulera autour des troubles courants du système 
 digestif\, à savoir : constipation\, diarrhée\, ballonnements\, aphtes\,
  gingivites\, reflux...
ATTACH;FMTTYPE=image/jpeg:https://jardinsatsenti.com/wp-content/uploads/20
 23/06/femme-regles-douleur.webp
CATEGORIES:Formations courtes
LOCATION:Les Jardins Atsenti Auarata\, 68 Rue Dupont\, \, Pont-Rouge\, Cana
 da\, G3H 1M2\, Quebec\, Canada
X-APPLE-STRUCTURED-LOCATION;VALUE=URI;X-ADDRESS=68 Rue Dupont\, \, Pont-Rou
 ge\, Canada\, G3H 1M2\, Quebec\, Canada;X-APPLE-RADIUS=100;X-TITLE=Les Jar
 dins Atsenti Auarata:geo:0,0
END:VEVENT
BEGIN:VTIMEZONE
TZID:America/Toronto
X-LIC-LOCATION:America/Toronto
BEGIN:DAYLIGHT
DTSTART:20260308T030000
TZOFFSETFROM:-0500
TZOFFSETTO:-0400
TZNAME:EDT
END:DAYLIGHT
END:VTIMEZONE
END:VCALENDAR