BEGIN:VCALENDAR
VERSION:2.0
PRODID:-//wp-events-plugin.com//7.2.3.1//EN
BEGIN:VEVENT
UID:21@jardinsatsenti.com
DTSTART;TZID=America/Toronto:20260711T090000
DTEND;TZID=America/Toronto:20260712T160000
DTSTAMP:20260211T173106Z
URL:https://jardinsatsenti.com/events/formation-intensive-en-herboristerie
 -11-et-12-juillet-2026/
SUMMARY:Formation Intensive en Herboristerie - 11 et 12 juillet 2026
DESCRIPTION:Points forts: \nPlongez dans l'univers des plantes médicinale
 s !  2 jours intensifs pour devenir autonome : identification\, cueillett
 e\, séchage et transformation. Créez vos préparations naturelles (tisan
 es\, baumes\, sirops) et repartez avec vos créations\nInformations pratiq
 ues\n\n 	225 $ pour le cycle complet (5 ateliers).\n 	de 9h-12h et 13h-16h
 .\n 	Places limitées.\n 	Point de rendez-vous : 68 Rue Dupont\, Pont-Roug
 e.\n\nInfos et réservations : 418-873-3105 ou sur la boutique en ligne
ATTACH;FMTTYPE=image/jpeg:https://jardinsatsenti.com/wp-content/uploads/20
 23/04/collage-tisanes-depliantb-3-volets.jpg
CATEGORIES:Atelier pratique
LOCATION:Les Jardins Atsenti Auarata\, 68 Rue Dupont\, \, Pont-Rouge\, Cana
 da\, G3H 1M2\, Quebec\, Canada
X-APPLE-STRUCTURED-LOCATION;VALUE=URI;X-ADDRESS=68 Rue Dupont\, \, Pont-Rou
 ge\, Canada\, G3H 1M2\, Quebec\, Canada;X-APPLE-RADIUS=100;X-TITLE=Les Jar
 dins Atsenti Auarata:geo:0,0
END:VEVENT
BEGIN:VTIMEZONE
TZID:America/Toronto
X-LIC-LOCATION:America/Toronto
BEGIN:DAYLIGHT
DTSTART:20260308T030000
TZOFFSETFROM:-0500
TZOFFSETTO:-0400
TZNAME:EDT
END:DAYLIGHT
END:VTIMEZONE
END:VCALENDAR